BEGIN:VCALENDAR
VERSION:2.0
PRODID:-//Ken Kunken - ECPv6.15.20//NONSGML v1.0//EN
CALSCALE:GREGORIAN
METHOD:PUBLISH
X-WR-CALNAME:Ken Kunken
X-ORIGINAL-URL:https://kenkunken.com
X-WR-CALDESC:Events for Ken Kunken
REFRESH-INTERVAL;VALUE=DURATION:PT1H
X-Robots-Tag:noindex
X-PUBLISHED-TTL:PT1H
BEGIN:VTIMEZONE
TZID:America/Halifax
BEGIN:DAYLIGHT
TZOFFSETFROM:-0400
TZOFFSETTO:-0300
TZNAME:ADT
DTSTART:20210314T060000
END:DAYLIGHT
BEGIN:STANDARD
TZOFFSETFROM:-0300
TZOFFSETTO:-0400
TZNAME:AST
DTSTART:20211107T050000
END:STANDARD
BEGIN:DAYLIGHT
TZOFFSETFROM:-0400
TZOFFSETTO:-0300
TZNAME:ADT
DTSTART:20220313T060000
END:DAYLIGHT
BEGIN:STANDARD
TZOFFSETFROM:-0300
TZOFFSETTO:-0400
TZNAME:AST
DTSTART:20221106T050000
END:STANDARD
BEGIN:DAYLIGHT
TZOFFSETFROM:-0400
TZOFFSETTO:-0300
TZNAME:ADT
DTSTART:20230312T060000
END:DAYLIGHT
BEGIN:STANDARD
TZOFFSETFROM:-0300
TZOFFSETTO:-0400
TZNAME:AST
DTSTART:20231105T050000
END:STANDARD
BEGIN:DAYLIGHT
TZOFFSETFROM:-0400
TZOFFSETTO:-0300
TZNAME:ADT
DTSTART:20240310T060000
END:DAYLIGHT
BEGIN:STANDARD
TZOFFSETFROM:-0300
TZOFFSETTO:-0400
TZNAME:AST
DTSTART:20241103T050000
END:STANDARD
BEGIN:DAYLIGHT
TZOFFSETFROM:-0400
TZOFFSETTO:-0300
TZNAME:ADT
DTSTART:20250309T060000
END:DAYLIGHT
BEGIN:STANDARD
TZOFFSETFROM:-0300
TZOFFSETTO:-0400
TZNAME:AST
DTSTART:20251102T050000
END:STANDARD
END:VTIMEZONE
BEGIN:VEVENT
DTSTART;TZID=America/Halifax:20240603T130000
DTEND;TZID=America/Halifax:20240603T143000
DTSTAMP:20260423T153248
CREATED:20240423T200704Z
LAST-MODIFIED:20240424T012148Z
UID:2657-1717419600-1717425000@kenkunken.com
SUMMARY:Book Club
DESCRIPTION:Book presentation to members of a Book Club. Open to everyone.
URL:https://kenkunken.com/event/book-club/
LOCATION:Greek Family Kitchen\, 212-02 Union Tpke\, Queens\, 11364\, United States
ATTACH;FMTTYPE=image/jpeg:https://kenkunken.com/wp-content/uploads/2024/04/2021-05-22.jpg
END:VEVENT
BEGIN:VEVENT
DTSTART;TZID=America/Halifax:20240510T183000
DTEND;TZID=America/Halifax:20240510T203000
DTSTAMP:20260423T153248
CREATED:20240423T194832Z
LAST-MODIFIED:20240510T210851Z
UID:2651-1715365800-1715373000@kenkunken.com
SUMMARY:Hofstra University
DESCRIPTION:Hofstra University chapter of Disability Rights\, Education\, Activism\, and Mentoring (DREAM)\, a national organization for students with disabilities and their allies\, will held an event to celebrate their members graduation. Ken will be a guest speaker during that event.
URL:https://kenkunken.com/event/hofstra-university/
LOCATION:Hofstra University – Student Center Plaza Rooms\, 200 Hofstra University\, Hempstead\, 11549\, United States
ATTACH;FMTTYPE=image/jpeg:https://kenkunken.com/wp-content/uploads/2023/10/12-Page-turner-1972-copy.jpg
ORGANIZER;CN="Disability Rights%2C Education%2C Activism%2C and Mentoring%2C Hofstra University Chapter":MAILTO:dreamhofstra@gmail.com
END:VEVENT
BEGIN:VEVENT
DTSTART;TZID=America/Halifax:20240509T193000
DTEND;TZID=America/Halifax:20240509T213000
DTSTAMP:20260423T153248
CREATED:20231224T033446Z
LAST-MODIFIED:20240426T034411Z
UID:2448-1715283000-1715290200@kenkunken.com
SUMMARY:East Brunswick Public Library
DESCRIPTION:Ken Kunken will be talking about his life and his new memoir. Event open to everyone. There will be an opportunity to purchase Ken’s book\, as well.
URL:https://kenkunken.com/event/the-east-brunswick-friends-of-the-library/
LOCATION:East Brunswick Public Library\, 2 Jean Walling\, Civic Center\, Meeting Room 2\, East Brunswick\, NJ\, 08816\, United States
ATTACH;FMTTYPE=image/jpeg:https://kenkunken.com/wp-content/uploads/2023/10/IMG_5832.jpg
ORGANIZER;CN="The East Brunswick Friends of the Library":MAILTO:joelfyi@comcast.net
END:VEVENT
BEGIN:VEVENT
DTSTART;TZID=America/Halifax:20240411T190000
DTEND;TZID=America/Halifax:20240411T203000
DTSTAMP:20260423T153248
CREATED:20240403T190230Z
LAST-MODIFIED:20240409T230938Z
UID:2637-1712862000-1712867400@kenkunken.com
SUMMARY:Freeport Memorial Library
DESCRIPTION:Come enjoy the stories\, and meet some of your favorite ‘local’ authors that have shared their talents and tales with our patrons over the years.\nRefreshments will be served. 
URL:https://kenkunken.com/event/freeport-memorial-library/
LOCATION:Freeport Memorial Library\, 144 West Merrick Road\, Freeport\, NY\, 11520\, United States
ATTACH;FMTTYPE=image/jpeg:https://kenkunken.com/wp-content/uploads/2024/04/Freeport.jpg
ORGANIZER;CN="Freeport Memorial Library":MAILTO:ask@freeportlibrary.info
END:VEVENT
BEGIN:VEVENT
DTSTART;TZID=America/Halifax:20240311T120000
DTEND;TZID=America/Halifax:20240311T130000
DTSTAMP:20260423T153248
CREATED:20240102T230853Z
LAST-MODIFIED:20240222T180138Z
UID:2472-1710158400-1710162000@kenkunken.com
SUMMARY:Hofstra - The Maurice Deane School of Law
DESCRIPTION:Ken Kunken will be speaking about his time at Hofstra Law School and the Nassau District Attorney’s Office\nTo RSVP go here 
URL:https://kenkunken.com/event/hofstra-the-maurice-deane-school-of-law/
LOCATION:The Maurice Deane School of Law – Hofstra University\, 121 Hofstra University\, room 230\, Hempstead\, NY\, 11549\, United States
ATTACH;FMTTYPE=image/jpeg:https://kenkunken.com/wp-content/uploads/2023/10/7-Law-school-grad-1982.jpg
END:VEVENT
BEGIN:VEVENT
DTSTART;TZID=America/Halifax:20240129T130000
DTEND;TZID=America/Halifax:20240129T143000
DTSTAMP:20260423T153248
CREATED:20231222T130916Z
LAST-MODIFIED:20240125T001825Z
UID:2441-1706533200-1706538600@kenkunken.com
SUMMARY:Book Signing - Port Washington - NEW DATE!!!
DESCRIPTION:Lecture and a book signing for residents of the Harborside  development. \nNEW DATE !!!\nPrivate event
URL:https://kenkunken.com/event/book-signing-port-washington/
LOCATION:The Harborside\, 300 E Overlook\, Port Washington\, NY\, 11050\, United States
ATTACH;FMTTYPE=image/jpeg:https://kenkunken.com/wp-content/uploads/2023/10/IMG_5833.jpg
END:VEVENT
BEGIN:VEVENT
DTSTART;TZID=America/Halifax:20240128T121500
DTEND;TZID=America/Halifax:20240128T133000
DTSTAMP:20260423T153248
CREATED:20240125T031345Z
LAST-MODIFIED:20240126T190522Z
UID:2551-1706444100-1706448600@kenkunken.com
SUMMARY:One-on-One with John DeDakis Podcast
DESCRIPTION:John DeDakis is an award-winning novelist\, writing coach\, and manuscript editor. He is a former editor on CNN’s “The Situation Room with Wolf Blitzer.”\nDeDakis is the author of five mystery-suspense-thriller novels. In his most recent novel\, FAKE\, protagonist Lark Chadwick is a White House correspondent defending against “fake news” in the era of #MeToo.\n\nHere are links to watch the event live at 12:15PM on Sunday:\nFacebook: https://www.facebook.com/events/3557261474587443\nLinkedIn: https://www.linkedin.com/events/7156640457370865664/comments/\nYouTube: https://www.youtube.com/watch?v=HjiZPIlPhTU
URL:https://kenkunken.com/event/one-on-one-with-john-dedakis-podcast/
LOCATION:YouTube
ATTACH;FMTTYPE=image/jpeg:https://kenkunken.com/wp-content/uploads/2024/01/podcast-scaled.jpeg
END:VEVENT
BEGIN:VEVENT
DTSTART;TZID=America/Halifax:20240121T060000
DTEND;TZID=America/Halifax:20240121T083000
DTSTAMP:20260423T153248
CREATED:20240120T014905Z
LAST-MODIFIED:20240120T033539Z
UID:2520-1705816800-1705825800@kenkunken.com
SUMMARY:Long Island Radio Station Interview
DESCRIPTION:On January 4\, Ken was interviewed by John Lynch. The pre-recorded interview will be air on Sunday\, January 21\, 2024. The detailed schedule\, stations and times are listed below. Enjoy!\n8am – WHLI – WHLI.com\nFrequency/Listening Area: 1100AM & 104.7FM Long Island-wide\n6am – WKJY “K-JOY 98.3” – KJOY.com   \nFrequency/Listening Area: 98.3 FM in Queens/Nassau/Western Suffolk \n7am – WBZO “103.1 MAX FM” – 1031MAXFM.COM.com\nFrequency/Listening Area: 103.1 FM from central Nassau to central Suffolk\n7am – WWSK  “The Shark”- 943theshark.com\nFrequency/Listening Area: 94.3 FM from central Nassau to central Suffolk\n7am – WALK 97.5FM  – walkradio.com\nFrequency/Listening Area: 97.5FM – Suffolk County         
URL:https://kenkunken.com/event/long-island-radio-station-interview/
ATTACH;FMTTYPE=image/jpeg:https://kenkunken.com/wp-content/uploads/2024/01/IMG_1937-scaled.jpg
END:VEVENT
BEGIN:VEVENT
DTSTART;TZID=America/Halifax:20240111T190000
DTEND;TZID=America/Halifax:20240111T201500
DTSTAMP:20260423T153248
CREATED:20231021T040844Z
LAST-MODIFIED:20240102T060413Z
UID:2227-1704999600-1705004100@kenkunken.com
SUMMARY:BOOK SIGNING
DESCRIPTION:Ken Kunken will be talking about his life and his new memoir.\nRegistration on library’s website required (go to January 11 in the calendar to register.)\nIt will be a hybrid event. The ZOOM link will be provided closer to the event time by the library staff. 
URL:https://kenkunken.com/event/book-signing-2/
LOCATION:Rockville Centre Library\, 221 N. Village Avenue\, Rockville Centre\, NY\, 11570\, United States
ATTACH;FMTTYPE=image/jpeg:https://kenkunken.com/wp-content/uploads/2023/10/IMG_5834.jpg
END:VEVENT
BEGIN:VEVENT
DTSTART;TZID=America/Halifax:20240108T173000
DTEND;TZID=America/Halifax:20240108T193000
DTSTAMP:20260423T153248
CREATED:20231021T042546Z
LAST-MODIFIED:20240104T132758Z
UID:2223-1704735000-1704742200@kenkunken.com
SUMMARY:Lecture on Diversity\, Inclusion & Elimination of Bias
DESCRIPTION:Ken Kunken will be talking about diversity and inclusion in a workplace\nReception: 5:30 – 6:30PM\nLecture: 6:30 – 7:30PM\nProgram require registration with Nassau County Bar Association
URL:https://kenkunken.com/event/book-signing-3/
LOCATION:The Nassau County Bar Association\, 15th and West Streets\, Mineola\, NY\, 11501
ATTACH;FMTTYPE=image/jpeg:https://kenkunken.com/wp-content/uploads/2023/10/IMG_5836.jpg
END:VEVENT
BEGIN:VEVENT
DTSTART;TZID=America/Halifax:20231213T083000
DTEND;TZID=America/Halifax:20231213T160000
DTSTAMP:20260423T153248
CREATED:20231103T175943Z
LAST-MODIFIED:20231205T173352Z
UID:2328-1702456200-1702483200@kenkunken.com
SUMMARY:60th Anniversary of SCRC
DESCRIPTION:The Suffolk County Rehabilitation Council (SCRC)\, in partnership with New York State’s Association of People Supporting Employment First (NYS APSE) is going to hold a Training Event celebrating the 60th Anniversary of SCRC. Ken Kunken will deliver a presentation at 9:15AM.\nMission of the Suffolk County Rehabilitation Council:\nTo promote the rights of individuals with disabilities and to assist them to maximize their potential within society.\nInitially chartered in 1963\, the SCRC was formed to gain a better understanding of the functions of various agencies providing rehabilitation services\, to coordinate these efforts and facilitate solutions of presenting problems. Emphasis was placed on planning of professional development for staff working to support people with disabilities and improve communication among community resources\, professional groups\, businesses\, and a variety of support services.\nRegistration available HERE\nDetails available HERE\n 
URL:https://kenkunken.com/event/60th-anniversary-of-scrc/
LOCATION:Long Island Cares* – The Center for Community Engagement\, 75 David’s Drive\, Hauppauge\, NY\, 11788\, United States
ATTACH;FMTTYPE=image/jpeg:https://kenkunken.com/wp-content/uploads/2023/11/SCRC-logo.jpeg
END:VEVENT
BEGIN:VEVENT
DTSTART;TZID=America/Halifax:20231117T130000
DTEND;TZID=America/Halifax:20231117T150000
DTSTAMP:20260423T153248
CREATED:20231103T005106Z
LAST-MODIFIED:20231107T033618Z
UID:2315-1700226000-1700233200@kenkunken.com
SUMMARY:BOOK SIGNING
DESCRIPTION:Ken Kunken will be talking about his life and his new memoir
URL:https://kenkunken.com/event/book-signing-4/
LOCATION:East Brunswick Public Library\, 2 Jean Walling\, Civic Center\, Meeting Room 2\, East Brunswick\, NJ\, 08816\, United States
ATTACH;FMTTYPE=image/jpeg:https://kenkunken.com/wp-content/uploads/2023/10/IMG_5831.jpg
END:VEVENT
BEGIN:VEVENT
DTSTART;TZID=America/Halifax:20231113T140000
DTEND;TZID=America/Halifax:20231113T153000
DTSTAMP:20260423T153248
CREATED:20231021T034123Z
LAST-MODIFIED:20231107T031049Z
UID:2210-1699884000-1699889400@kenkunken.com
SUMMARY:BOOK SIGNING
DESCRIPTION:Ken Kunken will be talking about his life and his new memoir
URL:https://kenkunken.com/event/book-signing/
LOCATION:The Marion&Aaron Gural Jewish Community Center\, 207 Grove Avenue\, Cedarhurst\, NY\, 11516\, United States
ATTACH;FMTTYPE=image/jpeg:https://kenkunken.com/wp-content/uploads/2023/10/IMG_5837.jpg
ORGANIZER;CN="The Marion&amp%3BAaron Gural Jewish Community Center":MAILTO:erica.brown@guraljcc.org
END:VEVENT
BEGIN:VEVENT
DTSTART;TZID=America/Halifax:20231023T130000
DTEND;TZID=America/Halifax:20231023T143000
DTSTAMP:20260423T153248
CREATED:20231007T162801Z
LAST-MODIFIED:20231007T162941Z
UID:1859-1698066000-1698071400@kenkunken.com
SUMMARY:Launch Party/Book Signing
DESCRIPTION:Open to the public but appreciate if RSVP to Anna Kunken: kennethkunken@gmail.com or text 516 5079407
URL:https://kenkunken.com/event/launch-party-book-signing/
LOCATION:Launch Party/Book Signing\, Breslin Hall\, room 100\, Hempstead\, NY\, 11550
ATTACH;FMTTYPE=image/png:https://kenkunken.com/wp-content/uploads/2023/09/book.png
END:VEVENT
BEGIN:VEVENT
DTSTART;TZID=America/Halifax:20231021T140000
DTEND;TZID=America/Halifax:20231021T170000
DTSTAMP:20260423T153248
CREATED:20230924T124732Z
LAST-MODIFIED:20231003T174529Z
UID:1675-1697896800-1697907600@kenkunken.com
SUMMARY:Book signing
DESCRIPTION:Signing a book it is located in a private house\, event “by invitation only”
URL:https://kenkunken.com/event/signing-a-book/
LOCATION:Signing a book\, Monroe\, New Jersey
ATTACH;FMTTYPE=image/png:https://kenkunken.com/wp-content/uploads/2023/09/book.png
END:VEVENT
BEGIN:VEVENT
DTSTART;TZID=America/Halifax:20220726T130000
DTEND;TZID=America/Halifax:20220726T133000
DTSTAMP:20260423T153248
CREATED:20231021T042358Z
LAST-MODIFIED:20231021T042358Z
UID:2232-1658840400-1658842200@kenkunken.com
SUMMARY:Commemoration of the anniversary of Americans with Disabilities Act
DESCRIPTION:The Nassau County District Attorney’s Office and The Viscardi Center hosted an event to Commemorate the 32nd Anniversary of the Americans with Disabilities Act\nEvent included panel discussion moderated by students from the Henry Viscardi School.\nReport from the event: CBS New York News
URL:https://kenkunken.com/event/commemoration-of-the-anniversary-of-americans-with-disabilities-act/
LOCATION:The Historic Nassau County Court House\, 262 Old Country Road\, Mineola\, NY\, 11501\, United States
ATTACH;FMTTYPE=image/jpeg:https://kenkunken.com/wp-content/uploads/2023/10/IMG_3244-scaled-e1697131924480.jpg
END:VEVENT
END:VCALENDAR